BEGIN:VCALENDAR
VERSION:2.0
PRODID:shrl.hkust.edu.hk
BEGIN:VEVENT
UID:69ed51213e516
DTSTART;VALUE=DATE:20240311
SEQUENCE:0
TRANSP:OPAQUE
DTEND;VALUE=DATE:20240504
SUMMARY:Hall Application for RY2024-25 (CUG)
CLASS:PUBLIC
DESCRIPTION:Hall Application for RY2024-25 (CUG)
X-MICROSOFT-CDO-ALLDAYEVENT:TRUE
DTSTAMP:20260425T234121Z
END:VEVENT
END:VCALENDAR